BEGIN:VCALENDAR
PRODID:-//Affordable Hair Salon Northridge | Hair Coloring | Men Haircut | Barber | Hair Highlight | Russian Salon//NONSGML v1.0//EN
VERSION:2.0
CALSCALE:GREGORIAN
METHOD:PUBLISH
X-WR-CALNAME:Affordable Hair Salon Northridge | Hair Coloring | Men Haircut | Barber | Hair Highlight | Russian Salon
X-ORIGINAL-URL:http://www.northridgehair.com
X-WR-CALDESC:Events for Affordable Hair Salon Northridge | Hair Coloring | Men Haircut | Barber | Hair Highlight | Russian Salon
BEGIN:VEVENT
DTSTART:20110607T190000
DTEND:20110830T210000
DTSTAMP:20260420T173913
CREATED:20110813T112631
LAST-MODIFIED:20110813T112631
UID:3212@http://www.northridgehair.com
SUMMARY:JAZZ SUMMER 2011
DESCRIPTION:WINE + JAZZ - SUMMER 2011 Every Tuesday, June 7 - August 30    7:00 - 9:00pm  Hollywood & Highland Central Courtyard    2011 Wine + Jazz Artist's Line-up:  August 16 - Duke Robillard   August 23 - Brent Canter   August 30 - Pete Escovedo Latin Jazz Orchestra
LOCATION:6801 Hollywood Boulevard,  Los Angeles, CA, United States, 90028
URL:http://www.northridgehair.com/jazz-summer-2011/
END:VEVENT
END:VCALENDAR